BEGIN:VCALENDAR
VERSION:2.0
PRODID:-//wp-events-plugin.com//7.2.3.1//EN
TZID:Europe/Berlin
X-WR-TIMEZONE:Europe/Berlin
BEGIN:VEVENT
UID:55@zentrum-seelenfreude.de
DTSTART;TZID=Europe/Berlin:20260523T093000
DTEND;TZID=Europe/Berlin:20260524T170000
DTSTAMP:20260415T145146Z
URL:https://zentrum-seelenfreude.de/events/akashaausbildung-basiskurs-selb
 sterfahrungskurs/
SUMMARY:Akashaausbildung Basiskurs & Selbsterfahrungskurs
DESCRIPTION:Auszeit\n\nSelbsterfahrung\n\nBasiskurs\n&nbsp\;\n\nErfahre meh
 r über das kraftvolle Feld der Akasha Chronik mit allen Grundlagen.\n\nTa
 uche mit mir ein in die Heilfrequenzen &amp\; ihr Potenzial\n\nEine Lesung
  für ein Gruppenthema sowie Kakaokreis\, Souldance\, Akasha &amp\; Klang\
 , Gruppenhypnose und vieles mehr.\n\nGemeinsam aktivieren wir deine Hellsi
 nne\, deine Intuition\, deine Wahrnehmungen &amp\; betrachten auch das was
  das noch blockiert.\n\nErhalte Zugang zu deinem höheren Selbst &amp\; zu
  deinem Akasha Feld.\n\nWir beschäftigen uns mit Energien\, energetische 
 Basisthemen wie Schutz\, Reinigung\, Energiefeld und mit der geistigen Wel
 t so wie mit Erdung\, Integration\, Schattenthemen und inneren Programmen 
 und Mustern\, die dir noch im Weg stehen ein glückliches Leben zu führen
 .\n\nLerne Schritt für Schritt in deiner eigenen Chronik zu lesen &amp\; 
 für dich zu nutzen.\nFreude &amp\; Spaß\n\nLebendigkeit &amp\; Loslassen
 \n\nErdung &amp\; Integration\n\nTiefe &amp\; Öffnung\n\nTransformation &
 amp\; Heilung\n\nAustausch &amp\; Gleichgesinnte treffen\n****************
 **\n\n2 Tage\n\n9:30 - ca. 17:00 Uhr\n\nEs findet in einer Kleingruppe von
  4-5 Teilnehmern statt.\n\nInkl. Getränke\, zeremoniellen Kakao\, Snacks 
 &amp\; gemeinsamen vegetarischen/veganen Mittagsbuffet.\n\nGib mir gerne B
 escheid wenn du eine spezielle Kostform wie z. B. glutunfrei zu dir nimmst
  und wir finden sicher eine Lösung.\n\nIn der Nähe gibt es einige Ferien
 wohnung die man für das Wochenende mieten kann. Gerne unterstütze ich di
 ch dabei etwas zu finden.\n\nAuch wenn du keine Ausbildung anstrebst könn
 te dieses 2 Tages Retreat dich auf deinem Weg weiterbringen denn es geht h
 ier erst einmal um Verwurzelung\, Selbsterfahrung\, Transformation &amp\; 
 dein inneres Fundament und natürlich das Akasha Feld für dich selbst zu 
 nutzen.\n\nEs sind keine Vorkenntnisse notwendig\n\n********************\n
 \nMelde dich gerne und wir können auch gemeinsam schauen ob dieser Basisk
 urs das richtig für dich wäre.\n\nIch freue mich auf dich\n\nUnd auf ein
  Wochenende voller Freude\, Spaß\, Lebendigkeit\, Öffnung &amp\; Transfo
 rmation\n\nDésirée
ATTACH;FMTTYPE=image/jpeg:https://zentrum-seelenfreude.de/wp-content/uploa
 ds/2025/06/Kopie-von-Kopie-von-Kopie-von-Rauhnaechte-1.png
LOCATION:Zentrum Seelenfreude\, Dresdener Straße 9\, Amorbach\, 63916\, 
X-APPLE-STRUCTURED-LOCATION;VALUE=URI;X-ADDRESS=Dresdener Straße 9\, Amorb
 ach\, 63916\, ;X-APPLE-RADIUS=100;X-TITLE=Zentrum Seelenfreude:geo:0,0
END:VEVENT
BEGIN:VTIMEZONE
TZID:Europe/Berlin
X-LIC-LOCATION:Europe/Berlin
BEGIN:DAYLIGHT
DTSTART:20260329T030000
TZOFFSETFROM:+0100
TZOFFSETTO:+0200
TZNAME:CEST
END:DAYLIGHT
END:VTIMEZONE
END:VCALENDAR