BEGIN:VCALENDAR
VERSION:2.0
PRODID:-//wp-events-plugin.com//7.2.3.1//EN
TZID:Europe/Berlin
X-WR-TIMEZONE:Europe/Berlin
BEGIN:VEVENT
UID:61@zentrum-seelenfreude.de
DTSTART;TZID=Europe/Berlin:20260509T110000
DTEND;TZID=Europe/Berlin:20260509T120000
DTSTAMP:20260415T152008Z
URL:https://zentrum-seelenfreude.de/events/kakaoverkostung-mit-meditation/
SUMMARY:Kakaoverkostung mit Meditation
DESCRIPTION:Zeremonieller Kakao\n\nAchtsamkeit\n\nEnergien wahrnehmen\n\nGe
 meinschaft &amp\; Herzöffnung\n*****\n\nErfahre mit mir gemeinsam die Kra
 ft &amp\; Energien des zeremoniellen Kakaos \n\nBegleitet durch eine Medi
 tation kannst du Kontakt zur Mutter Erde aufnehmen und dich wieder verbind
 en - mit ihr\, mit dir &amp\; mit allem was existiert.\n\nIn Kombination m
 it der Speise der Götter kann viel für dich in Harmonie &amp\; Bewegung 
 kommen oder in Transformation.\n\nOder dir einfach Freude bereiten beim ge
 meinsamen Kakaotrinken in Gesellschaft.\n\nJede Kakaosorte bringt seine En
 ergie mit sich  - direkt aus Guatemala.\n\nLass dich einhüllen oder entz
 ünden von den Urenergien &amp\; vom Urwissen des Ursprungs des Rohkakaos.
 \n\nErfahre selbst was die einzelnen Sorten mit dir machen - jeder auf sei
 ne Art &amp\; Weise\n\n********\n\n3 Kakaosorten von Wisdom of Earth\n\nDi
 ese Kakaosorten sind bei mir Ort zum Kauf erhältlich &amp\; du kannst zu 
 Hause deinen Lieblingskakao direkt weiter genießen\n\nFreier Energieausgl
 eich/ Wertschätzung - gebe so viel wie du kannst &amp\; möchtest (Barzah
 lung)\n\n*********\n\nHörst du den Kakao dich rufen?\n\nDann freue ich mi
 ch wenn du dabei bist\n\nDésirée\n\n&nbsp\;
ATTACH;FMTTYPE=image/jpeg:https://zentrum-seelenfreude.de/wp-content/uploa
 ds/2025/04/Kopie-von-Kopie-von-Rauhnaechte.png
LOCATION:Zentrum Seelenfreude\, Dresdener Straße 9\, Amorbach\, 63916\, 
X-APPLE-STRUCTURED-LOCATION;VALUE=URI;X-ADDRESS=Dresdener Straße 9\, Amorb
 ach\, 63916\, ;X-APPLE-RADIUS=100;X-TITLE=Zentrum Seelenfreude:geo:0,0
END:VEVENT
BEGIN:VTIMEZONE
TZID:Europe/Berlin
X-LIC-LOCATION:Europe/Berlin
BEGIN:DAYLIGHT
DTSTART:20260329T030000
TZOFFSETFROM:+0100
TZOFFSETTO:+0200
TZNAME:CEST
END:DAYLIGHT
END:VTIMEZONE
END:VCALENDAR