BEGIN:VCALENDAR
VERSION:2.0
PRODID:-//wp-events-plugin.com//7.2.3.1//EN
TZID:Europe/Berlin
X-WR-TIMEZONE:Europe/Berlin
BEGIN:VEVENT
UID:60@zentrum-seelenfreude.de
DTSTART;TZID=Europe/Berlin:20260512T190000
DTEND;TZID=Europe/Berlin:20260512T200000
DTSTAMP:20260415T144850Z
URL:https://zentrum-seelenfreude.de/events/tanzmeditation-tanze-dich-zu-di
 r-selbst/
SUMMARY:Tanzmeditation - Tanze dich zu dir selbst
DESCRIPTION:Fühlen\n\nFreude\n\nAchtsamkeit\n&nbsp\;\n\nDer Körper sprich
 t ohne Worte in seiner ganz eigenen Sprache &amp\; Frequenz\n\nBeim Tanzen
  kannst du alles frei lassen &amp\; einfach du selbst sein\n\nDauer: ca. 6
 0 Minuten\n\nGetränke vorhanden\n\nKomme gerne in bequemer Kleidung\n\nFr
 eier Energieaustausch / Wertschätzung - gebe soviel du kannst und möchte
 st ( Barzahlung)\n\nIch freue mich auf dich &amp\; unseren gemeinsamen Fre
 udentanz\n\nDésirée
ATTACH;FMTTYPE=image/jpeg:https://zentrum-seelenfreude.de/wp-content/uploa
 ds/2025/12/Hab-Vertrauen-Das-Universum-ist-immer-fuer-dich-2.png
LOCATION:Zentrum Seelenfreude\, Dresdener Straße 9\, Amorbach\, 63916\, 
X-APPLE-STRUCTURED-LOCATION;VALUE=URI;X-ADDRESS=Dresdener Straße 9\, Amorb
 ach\, 63916\, ;X-APPLE-RADIUS=100;X-TITLE=Zentrum Seelenfreude:geo:0,0
END:VEVENT
BEGIN:VTIMEZONE
TZID:Europe/Berlin
X-LIC-LOCATION:Europe/Berlin
BEGIN:DAYLIGHT
DTSTART:20260329T030000
TZOFFSETFROM:+0100
TZOFFSETTO:+0200
TZNAME:CEST
END:DAYLIGHT
END:VTIMEZONE
END:VCALENDAR