BEGIN:VCALENDAR
VERSION:2.0
PRODID:-//wp-events-plugin.com//7.2.3.1//EN
TZID:Europe/Berlin
X-WR-TIMEZONE:Europe/Berlin
BEGIN:VEVENT
UID:59@zentrum-seelenfreude.de
DTSTART;TZID=Europe/Berlin:20260516T140000
DTEND;TZID=Europe/Berlin:20260516T153000
DTSTAMP:20260415T093215Z
URL:https://zentrum-seelenfreude.de/events/themennachmittag-reinkarnation-
 karma-online-per-zoom/
SUMMARY:Themennachmittag  "Reinkarnation & Karma"  - online per ZOOM
DESCRIPTION:Wir beschäftigen uns bei diesem Nachmittag mit folgenden Theme
 n:\nZeitlinien\n\nInkarnation\n\nReinkarnation\n\nKarma &amp\; karmische S
 trukturen\n&nbsp\;\n\nAußerdem Austausch\, Impulse\, Inspirationen &amp\;
  einfach einen gemütlichen\, schönen Nachmittag\n\nMit freiem Energieaus
 gleich / Wertschätzung - gib so viel wie du kannst und möchtest \n\n***
 *****\n\nMax. 6 - 8 Teilnehmer/innen\n\nDauer: ca. 1\,5  Stunden\n\nZoom 
 - Link erhälst du nach Anmeldung per WhatsApp oder Email - wie du möchte
 st.\n\nDie Veranstaltung findet ab 2 Teilnehmern statt.\n\n********\n\nIch
  freue mich auf dich &amp\; darauf diese Themen näher mit dir zu durchleu
 chten und zu vertiefen\n\nDésirée\n\n&nbsp\;
ATTACH;FMTTYPE=image/jpeg:https://zentrum-seelenfreude.de/wp-content/uploa
 ds/2024/06/Vesak-Day-Instagram-Post.png
END:VEVENT
BEGIN:VTIMEZONE
TZID:Europe/Berlin
X-LIC-LOCATION:Europe/Berlin
BEGIN:DAYLIGHT
DTSTART:20260329T030000
TZOFFSETFROM:+0100
TZOFFSETTO:+0200
TZNAME:CEST
END:DAYLIGHT
END:VTIMEZONE
END:VCALENDAR