BEGIN:VCALENDAR
VERSION:2.0
PRODID:-//wp-events-plugin.com//7.2.3.1//EN
TZID:Europe/Berlin
X-WR-TIMEZONE:Europe/Berlin
BEGIN:VEVENT
UID:58@zentrum-seelenfreude.de
DTSTART;TZID=Europe/Berlin:20260509T140000
DTEND;TZID=Europe/Berlin:20260509T153000
DTSTAMP:20260415T145008Z
URL:https://zentrum-seelenfreude.de/events/themennachmittag-reinkarnation-
 karma/
SUMMARY:Themennachmittag  "Reinkarnation & Karma"
DESCRIPTION:Wir beschäftigen uns bei diesem Nachmittag mit folgenden Theme
 n:\nZeitlinien\n\nInkarnation\n\nReinkarnation\n\nKarma &amp\; karmische S
 trukturen\n&nbsp\;\n\nAußerdem Austausch\, Impulse\, Inspirationen &amp\;
  einfach einen gemütlichen\, schönen Nachmittag\n\nMit freiem Energieaus
 gleich / Wertschätzung - gib so viel wie du kannst und möchtest ( Barzah
 lung)\n\n********\n\nMax. 6 - 8 Teilnehmer/innen\n\nDauer: ca. 1\,5  Stun
 den\n\nFür Getränke ist gesorgt\n\nDie Veranstaltung findet ab 2 Teilneh
 mern statt.\n\n********\n\nIch freue mich auf dich &amp\; darauf diese The
 men näher mit dir zu durchleuchten und zu vertiefen\n\nDésirée\n\n&nbsp
 \;
ATTACH;FMTTYPE=image/jpeg:https://zentrum-seelenfreude.de/wp-content/uploa
 ds/2024/06/Vesak-Day-Instagram-Post.png
LOCATION:Zentrum Seelenfreude\, Dresdener Straße 9\, Amorbach\, 63916\, 
X-APPLE-STRUCTURED-LOCATION;VALUE=URI;X-ADDRESS=Dresdener Straße 9\, Amorb
 ach\, 63916\, ;X-APPLE-RADIUS=100;X-TITLE=Zentrum Seelenfreude:geo:0,0
END:VEVENT
BEGIN:VTIMEZONE
TZID:Europe/Berlin
X-LIC-LOCATION:Europe/Berlin
BEGIN:DAYLIGHT
DTSTART:20260329T030000
TZOFFSETFROM:+0100
TZOFFSETTO:+0200
TZNAME:CEST
END:DAYLIGHT
END:VTIMEZONE
END:VCALENDAR